BEGIN:VCALENDAR
VERSION:2.0
PRODID:-//ChamberMaster//Event Calendar 2.0//EN
METHOD:PUBLISH
X-PUBLISHED-TTL:P3D
REFRESH-INTERVAL:P3D
CALSCALE:GREGORIAN
BEGIN:VEVENT
DTSTART:20231130T150000Z
DTEND:20231130T170000Z
X-MICROSOFT-CDO-ALLDAYEVENT:FALSE
SUMMARY:Business & Leadership Series: Conflict Resolution
DESCRIPTION:Business and Leadership Series:  Conflict Resolution\n\n\n\nConflict management is an essential skill for any manager or employee. It helps to create a positive work environment\, improve communication\, and boost productivity. By understanding the impact of conflicts in management\, identifying the different types of conflicts that can arise in the workplace\, and implementing conflict resolution strategies\, employees can manage conflicts effectively and create a more positive workplace environment
X-ALT-DESC;FMTTYPE=text/html:Business and Leadership Series:&nbsp\; Conflict Resolution<br />\n<br />\n<span class="contentpasted0"><span style="font-size: 11.5pt\; font-family: Aptos\, sans-serif\; background: white\;">Conflict management is an essential skill for any manager or employee. It helps to create a positive work environment\, improve communication\, and boost productivity. By understanding the impact of conflicts in management\, identifying the different types of conflicts that can arise in the workplace\, and implementing conflict resolution strategies\, employees can manage conflicts effectively and create a more positive workplace environment</span></span>
LOCATION:Billy Kim International Center Belhaven University **THERE WILL BE A SECURITY GUARD IN THE PARKING LOT AND EVENT SIGNS PLACED AT THE GARAGE ENTRANCE. THE ARMS/GATES WILL BE OPEN FOR GUESTS TO UTILIZE ACCESS TO THE NEW PARKING GARAGE\, AS WELL AS THEIR NORMAL PARKING SPACES**
UID:e.835.6632
SEQUENCE:3
DTSTAMP:20260425T172535Z
URL:https://members.greaterjacksonms.com/events/details/business-leadership-series-conflict-resolution-6632
END:VEVENT

END:VCALENDAR
