BEGIN:VCALENDAR
VERSION:2.0
PRODID:-//ChamberMaster//Event Calendar 2.0//EN
METHOD:PUBLISH
X-PUBLISHED-TTL:P3D
REFRESH-INTERVAL:P3D
CALSCALE:GREGORIAN
BEGIN:VEVENT
DTSTART:20230926T153000Z
DTEND:20230926T160000Z
X-MICROSOFT-CDO-ALLDAYEVENT:FALSE
SUMMARY:OnTargetTv of Mississippi
DESCRIPTION:OnTargetTV of Mississippi Ribbon Cutting
X-ALT-DESC;FMTTYPE=text/html:OnTargetTV of Mississippi Ribbon Cutting
LOCATION:Ribbon Cutting event will be held at Fondren Fitness 2727 Old Canton Road\, Suite 200\, Jackson
UID:e.835.6631
SEQUENCE:3
DTSTAMP:20260422T161145Z
URL:https://members.greaterjacksonms.com/events/details/ontargettv-of-mississippi-6631
END:VEVENT

END:VCALENDAR
